BEGIN:VCALENDAR
PRODID:http://www.kufer.de/kuferweb / DE
VERSION:2.0
METHOD:PUBLISH
CALSCALE:GREGORIAN
X-WR-TIMEZONE:Europe/Berlin
BEGIN:VTIMEZONE
TZID:Europe/Berlin
X-LIC-LOCATION:Europe/Berlin
BEGIN:DAYLIGHT
TZOFFSETFROM:+0100
TZOFFSETTO:+0200
TZNAME:CEST
DTSTART;TZID=Europe/Berlin:19700329T020000
RRULE:FREQ=YEARLY;INTERVAL=1;BYDAY=-1SU;BYMONTH=3
END:DAYLIGHT
BEGIN:STANDARD
TZOFFSETFROM:+0200
TZOFFSETTO:+0100
TZNAME:CET
DTSTART;TZID=Europe/Berlin:19701025T030000
RRULE:FREQ=YEARLY;INTERVAL=1;BYDAY=-1SU;BYMONTH=10
END:STANDARD
END:VTIMEZONE
BEGIN:VEVENT
DTSTAMP:20260421T103822
DTSTART;TZID=Europe/Berlin:20260713T175000
DTEND;TZID=Europe/Berlin:20260713T210000
UID:J661118-20260713T175000@VHSMANNHEIM
SUMMARY:A1  Neugriechisch Intensiv  Anfänger*innen ohne Vorkenntnisse (J661118) 
LOCATION:Karl-Friedrich-Gymnasium, Raum 112, Roonstraße 4 - 6, 68165 Mannheim-Schwetzingerstadt
END:VEVENT
BEGIN:VEVENT
DTSTAMP:20260421T103822
DTSTART;TZID=Europe/Berlin:20260714T175000
DTEND;TZID=Europe/Berlin:20260714T210000
UID:J661118-20260714T175000@VHSMANNHEIM
SUMMARY:A1  Neugriechisch Intensiv  Anfänger*innen ohne Vorkenntnisse (J661118) 
LOCATION:Karl-Friedrich-Gymnasium, Raum 112, Roonstraße 4 - 6, 68165 Mannheim-Schwetzingerstadt
END:VEVENT
BEGIN:VEVENT
DTSTAMP:20260421T103822
DTSTART;TZID=Europe/Berlin:20260720T175000
DTEND;TZID=Europe/Berlin:20260720T210000
UID:J661118-20260720T175000@VHSMANNHEIM
SUMMARY:A1  Neugriechisch Intensiv  Anfänger*innen ohne Vorkenntnisse (J661118) 
LOCATION:Karl-Friedrich-Gymnasium, Raum 112, Roonstraße 4 - 6, 68165 Mannheim-Schwetzingerstadt
END:VEVENT
BEGIN:VEVENT
DTSTAMP:20260421T103822
DTSTART;TZID=Europe/Berlin:20260721T175000
DTEND;TZID=Europe/Berlin:20260721T210000
UID:J661118-20260721T175000@VHSMANNHEIM
SUMMARY:A1  Neugriechisch Intensiv  Anfänger*innen ohne Vorkenntnisse (J661118) 
LOCATION:Karl-Friedrich-Gymnasium, Raum 112, Roonstraße 4 - 6, 68165 Mannheim-Schwetzingerstadt
END:VEVENT
END:VCALENDAR