BEGIN:VCALENDAR
PRODID:http://www.kufer.de/kuferweb / DE
VERSION:2.0
METHOD:PUBLISH
CALSCALE:GREGORIAN
X-WR-TIMEZONE:Europe/Berlin
BEGIN:VTIMEZONE
TZID:Europe/Berlin
X-LIC-LOCATION:Europe/Berlin
BEGIN:DAYLIGHT
TZOFFSETFROM:+0100
TZOFFSETTO:+0200
TZNAME:CEST
DTSTART;TZID=Europe/Berlin:19700329T020000
RRULE:FREQ=YEARLY;INTERVAL=1;BYDAY=-1SU;BYMONTH=3
END:DAYLIGHT
BEGIN:STANDARD
TZOFFSETFROM:+0200
TZOFFSETTO:+0100
TZNAME:CET
DTSTART;TZID=Europe/Berlin:19701025T030000
RRULE:FREQ=YEARLY;INTERVAL=1;BYDAY=-1SU;BYMONTH=10
END:STANDARD
END:VTIMEZONE
BEGIN:VEVENT
DTSTAMP:20260419T161511
DTSTART;TZID=Europe/Berlin:20260303T191500
DTEND;TZID=Europe/Berlin:20260303T204500
UID:J672105-20260303T191500@VHSMANNHEIM
SUMMARY:A1.1 Niederländisch Anfänger*innen ohne Vorkenntnisse (J672105) 
LOCATION:U 1, Raum 413, U1, 16 - 19, 68161 Mannheim
END:VEVENT
BEGIN:VEVENT
DTSTAMP:20260419T161511
DTSTART;TZID=Europe/Berlin:20260310T191500
DTEND;TZID=Europe/Berlin:20260310T204500
UID:J672105-20260310T191500@VHSMANNHEIM
SUMMARY:A1.1 Niederländisch Anfänger*innen ohne Vorkenntnisse (J672105) 
LOCATION:U 1, Raum 413, U1, 16 - 19, 68161 Mannheim
END:VEVENT
BEGIN:VEVENT
DTSTAMP:20260419T161511
DTSTART;TZID=Europe/Berlin:20260317T191500
DTEND;TZID=Europe/Berlin:20260317T204500
UID:J672105-20260317T191500@VHSMANNHEIM
SUMMARY:A1.1 Niederländisch Anfänger*innen ohne Vorkenntnisse (J672105) 
LOCATION:U 1, Raum 413, U1, 16 - 19, 68161 Mannheim
END:VEVENT
BEGIN:VEVENT
DTSTAMP:20260419T161511
DTSTART;TZID=Europe/Berlin:20260324T191500
DTEND;TZID=Europe/Berlin:20260324T204500
UID:J672105-20260324T191500@VHSMANNHEIM
SUMMARY:A1.1 Niederländisch Anfänger*innen ohne Vorkenntnisse (J672105) 
LOCATION:U 1, Raum 413, U1, 16 - 19, 68161 Mannheim
END:VEVENT
BEGIN:VEVENT
DTSTAMP:20260419T161511
DTSTART;TZID=Europe/Berlin:20260414T191500
DTEND;TZID=Europe/Berlin:20260414T204500
UID:J672105-20260414T191500@VHSMANNHEIM
SUMMARY:A1.1 Niederländisch Anfänger*innen ohne Vorkenntnisse (J672105) 
LOCATION:U 1, Raum 413, U1, 16 - 19, 68161 Mannheim
END:VEVENT
BEGIN:VEVENT
DTSTAMP:20260419T161511
DTSTART;TZID=Europe/Berlin:20260421T191500
DTEND;TZID=Europe/Berlin:20260421T204500
UID:J672105-20260421T191500@VHSMANNHEIM
SUMMARY:A1.1 Niederländisch Anfänger*innen ohne Vorkenntnisse (J672105) 
LOCATION:U 1, Raum 413, U1, 16 - 19, 68161 Mannheim
END:VEVENT
BEGIN:VEVENT
DTSTAMP:20260419T161511
DTSTART;TZID=Europe/Berlin:20260428T191500
DTEND;TZID=Europe/Berlin:20260428T204500
UID:J672105-20260428T191500@VHSMANNHEIM
SUMMARY:A1.1 Niederländisch Anfänger*innen ohne Vorkenntnisse (J672105) 
LOCATION:U 1, Raum 413, U1, 16 - 19, 68161 Mannheim
END:VEVENT
BEGIN:VEVENT
DTSTAMP:20260419T161511
DTSTART;TZID=Europe/Berlin:20260505T191500
DTEND;TZID=Europe/Berlin:20260505T204500
UID:J672105-20260505T191500@VHSMANNHEIM
SUMMARY:A1.1 Niederländisch Anfänger*innen ohne Vorkenntnisse (J672105) 
LOCATION:U 1, Raum 413, U1, 16 - 19, 68161 Mannheim
END:VEVENT
BEGIN:VEVENT
DTSTAMP:20260419T161511
DTSTART;TZID=Europe/Berlin:20260509T103000
DTEND;TZID=Europe/Berlin:20260509T120000
UID:J672105-20260509T103000@VHSMANNHEIM
SUMMARY:A1.1 Niederländisch Anfänger*innen ohne Vorkenntnisse (J672105) 
LOCATION:Online, , online
END:VEVENT
BEGIN:VEVENT
DTSTAMP:20260419T161511
DTSTART;TZID=Europe/Berlin:20260512T191500
DTEND;TZID=Europe/Berlin:20260512T204500
UID:J672105-20260512T191500@VHSMANNHEIM
SUMMARY:A1.1 Niederländisch Anfänger*innen ohne Vorkenntnisse (J672105) 
LOCATION:U 1, Raum 413, U1, 16 - 19, 68161 Mannheim
END:VEVENT
BEGIN:VEVENT
DTSTAMP:20260419T161511
DTSTART;TZID=Europe/Berlin:20260519T191500
DTEND;TZID=Europe/Berlin:20260519T204500
UID:J672105-20260519T191500@VHSMANNHEIM
SUMMARY:A1.1 Niederländisch Anfänger*innen ohne Vorkenntnisse (J672105) 
LOCATION:U 1, Raum 413, U1, 16 - 19, 68161 Mannheim
END:VEVENT
BEGIN:VEVENT
DTSTAMP:20260419T161511
DTSTART;TZID=Europe/Berlin:20260526T191500
DTEND;TZID=Europe/Berlin:20260526T204500
UID:J672105-20260526T191500@VHSMANNHEIM
SUMMARY:A1.1 Niederländisch Anfänger*innen ohne Vorkenntnisse (J672105) 
LOCATION:U 1, Raum 413, U1, 16 - 19, 68161 Mannheim
END:VEVENT
END:VCALENDAR