BEGIN:VCALENDAR
PRODID:http://www.kufer.de/kuferweb / DE
VERSION:2.0
METHOD:PUBLISH
CALSCALE:GREGORIAN
X-WR-TIMEZONE:Europe/Berlin
BEGIN:VTIMEZONE
TZID:Europe/Berlin
X-LIC-LOCATION:Europe/Berlin
BEGIN:DAYLIGHT
TZOFFSETFROM:+0100
TZOFFSETTO:+0200
TZNAME:CEST
DTSTART;TZID=Europe/Berlin:19700329T020000
RRULE:FREQ=YEARLY;INTERVAL=1;BYDAY=-1SU;BYMONTH=3
END:DAYLIGHT
BEGIN:STANDARD
TZOFFSETFROM:+0200
TZOFFSETTO:+0100
TZNAME:CET
DTSTART;TZID=Europe/Berlin:19701025T030000
RRULE:FREQ=YEARLY;INTERVAL=1;BYDAY=-1SU;BYMONTH=10
END:STANDARD
END:VTIMEZONE
BEGIN:VEVENT
DTSTAMP:20260420T230742
DTSTART;TZID=Europe/Berlin:20260610T193000
DTEND;TZID=Europe/Berlin:20260610T210000
UID:J683140-20260610T193000@VHSMANNHEIM
SUMMARY:A1.1 Thailändisch - Teil 2 Anfänger*innen mit leichten Vorkenntnissen (J683140) 
LOCATION:Karl-Friedrich-Gymnasium, Raum 106, Roonstraße 4 - 6, 68165 Mannheim
END:VEVENT
BEGIN:VEVENT
DTSTAMP:20260420T230742
DTSTART;TZID=Europe/Berlin:20260617T193000
DTEND;TZID=Europe/Berlin:20260617T210000
UID:J683140-20260617T193000@VHSMANNHEIM
SUMMARY:A1.1 Thailändisch - Teil 2 Anfänger*innen mit leichten Vorkenntnissen (J683140) 
LOCATION:Karl-Friedrich-Gymnasium, Raum 106, Roonstraße 4 - 6, 68165 Mannheim
END:VEVENT
BEGIN:VEVENT
DTSTAMP:20260420T230742
DTSTART;TZID=Europe/Berlin:20260624T193000
DTEND;TZID=Europe/Berlin:20260624T210000
UID:J683140-20260624T193000@VHSMANNHEIM
SUMMARY:A1.1 Thailändisch - Teil 2 Anfänger*innen mit leichten Vorkenntnissen (J683140) 
LOCATION:Karl-Friedrich-Gymnasium, Raum 106, Roonstraße 4 - 6, 68165 Mannheim
END:VEVENT
BEGIN:VEVENT
DTSTAMP:20260420T230742
DTSTART;TZID=Europe/Berlin:20260701T193000
DTEND;TZID=Europe/Berlin:20260701T210000
UID:J683140-20260701T193000@VHSMANNHEIM
SUMMARY:A1.1 Thailändisch - Teil 2 Anfänger*innen mit leichten Vorkenntnissen (J683140) 
LOCATION:Karl-Friedrich-Gymnasium, Raum 106, Roonstraße 4 - 6, 68165 Mannheim
END:VEVENT
BEGIN:VEVENT
DTSTAMP:20260420T230742
DTSTART;TZID=Europe/Berlin:20260708T193000
DTEND;TZID=Europe/Berlin:20260708T210000
UID:J683140-20260708T193000@VHSMANNHEIM
SUMMARY:A1.1 Thailändisch - Teil 2 Anfänger*innen mit leichten Vorkenntnissen (J683140) 
LOCATION:Karl-Friedrich-Gymnasium, Raum 106, Roonstraße 4 - 6, 68165 Mannheim
END:VEVENT
BEGIN:VEVENT
DTSTAMP:20260420T230742
DTSTART;TZID=Europe/Berlin:20260715T193000
DTEND;TZID=Europe/Berlin:20260715T210000
UID:J683140-20260715T193000@VHSMANNHEIM
SUMMARY:A1.1 Thailändisch - Teil 2 Anfänger*innen mit leichten Vorkenntnissen (J683140) 
LOCATION:Karl-Friedrich-Gymnasium, Raum 106, Roonstraße 4 - 6, 68165 Mannheim
END:VEVENT
BEGIN:VEVENT
DTSTAMP:20260420T230742
DTSTART;TZID=Europe/Berlin:20260722T193000
DTEND;TZID=Europe/Berlin:20260722T210000
UID:J683140-20260722T193000@VHSMANNHEIM
SUMMARY:A1.1 Thailändisch - Teil 2 Anfänger*innen mit leichten Vorkenntnissen (J683140) 
LOCATION:Karl-Friedrich-Gymnasium, Raum 106, Roonstraße 4 - 6, 68165 Mannheim
END:VEVENT
BEGIN:VEVENT
DTSTAMP:20260420T230742
DTSTART;TZID=Europe/Berlin:20260729T193000
DTEND;TZID=Europe/Berlin:20260729T210000
UID:J683140-20260729T193000@VHSMANNHEIM
SUMMARY:A1.1 Thailändisch - Teil 2 Anfänger*innen mit leichten Vorkenntnissen (J683140) 
LOCATION:Karl-Friedrich-Gymnasium, Raum 106, Roonstraße 4 - 6, 68165 Mannheim
END:VEVENT
END:VCALENDAR