BEGIN:VCALENDAR
PRODID:http://www.kufer.de/kuferweb / DE
VERSION:2.0
METHOD:PUBLISH
CALSCALE:GREGORIAN
X-WR-TIMEZONE:Europe/Berlin
BEGIN:VTIMEZONE
TZID:Europe/Berlin
X-LIC-LOCATION:Europe/Berlin
BEGIN:DAYLIGHT
TZOFFSETFROM:+0100
TZOFFSETTO:+0200
TZNAME:CEST
DTSTART;TZID=Europe/Berlin:19700329T020000
RRULE:FREQ=YEARLY;INTERVAL=1;BYDAY=-1SU;BYMONTH=3
END:DAYLIGHT
BEGIN:STANDARD
TZOFFSETFROM:+0200
TZOFFSETTO:+0100
TZNAME:CET
DTSTART;TZID=Europe/Berlin:19701025T030000
RRULE:FREQ=YEARLY;INTERVAL=1;BYDAY=-1SU;BYMONTH=10
END:STANDARD
END:VTIMEZONE
BEGIN:VEVENT
DTSTAMP:20260421T212621
DTSTART;TZID=Europe/Berlin:20260302T180000
DTEND;TZID=Europe/Berlin:20260302T201500
UID:J685145-20260302T180000@VHSMANNHEIM
SUMMARY:A1.2 Türkisch Intensiv Anfänger*innen mit Vorkenntnissen (J685145) 
LOCATION:U 1, Raum 304, U1, 16 - 19, 68161 Mannheim
END:VEVENT
BEGIN:VEVENT
DTSTAMP:20260421T212621
DTSTART;TZID=Europe/Berlin:20260309T180000
DTEND;TZID=Europe/Berlin:20260309T201500
UID:J685145-20260309T180000@VHSMANNHEIM
SUMMARY:A1.2 Türkisch Intensiv Anfänger*innen mit Vorkenntnissen (J685145) 
LOCATION:U 1, Raum 304, U1, 16 - 19, 68161 Mannheim
END:VEVENT
BEGIN:VEVENT
DTSTAMP:20260421T212621
DTSTART;TZID=Europe/Berlin:20260316T180000
DTEND;TZID=Europe/Berlin:20260316T201500
UID:J685145-20260316T180000@VHSMANNHEIM
SUMMARY:A1.2 Türkisch Intensiv Anfänger*innen mit Vorkenntnissen (J685145) 
LOCATION:U 1, Raum 304, U1, 16 - 19, 68161 Mannheim
END:VEVENT
BEGIN:VEVENT
DTSTAMP:20260421T212621
DTSTART;TZID=Europe/Berlin:20260323T180000
DTEND;TZID=Europe/Berlin:20260323T201500
UID:J685145-20260323T180000@VHSMANNHEIM
SUMMARY:A1.2 Türkisch Intensiv Anfänger*innen mit Vorkenntnissen (J685145) 
LOCATION:U 1, Raum 304, U1, 16 - 19, 68161 Mannheim
END:VEVENT
BEGIN:VEVENT
DTSTAMP:20260421T212621
DTSTART;TZID=Europe/Berlin:20260330T180000
DTEND;TZID=Europe/Berlin:20260330T201500
UID:J685145-20260330T180000@VHSMANNHEIM
SUMMARY:A1.2 Türkisch Intensiv Anfänger*innen mit Vorkenntnissen (J685145) 
LOCATION:U 1, Raum 304, U1, 16 - 19, 68161 Mannheim
END:VEVENT
BEGIN:VEVENT
DTSTAMP:20260421T212621
DTSTART;TZID=Europe/Berlin:20260427T180000
DTEND;TZID=Europe/Berlin:20260427T201500
UID:J685145-20260427T180000@VHSMANNHEIM
SUMMARY:A1.2 Türkisch Intensiv Anfänger*innen mit Vorkenntnissen (J685145) 
LOCATION:U 1, Raum 304, U1, 16 - 19, 68161 Mannheim
END:VEVENT
BEGIN:VEVENT
DTSTAMP:20260421T212621
DTSTART;TZID=Europe/Berlin:20260504T180000
DTEND;TZID=Europe/Berlin:20260504T201500
UID:J685145-20260504T180000@VHSMANNHEIM
SUMMARY:A1.2 Türkisch Intensiv Anfänger*innen mit Vorkenntnissen (J685145) 
LOCATION:U 1, Raum 304, U1, 16 - 19, 68161 Mannheim
END:VEVENT
BEGIN:VEVENT
DTSTAMP:20260421T212621
DTSTART;TZID=Europe/Berlin:20260511T180000
DTEND;TZID=Europe/Berlin:20260511T201500
UID:J685145-20260511T180000@VHSMANNHEIM
SUMMARY:A1.2 Türkisch Intensiv Anfänger*innen mit Vorkenntnissen (J685145) 
LOCATION:U 1, Raum 304, U1, 16 - 19, 68161 Mannheim
END:VEVENT
BEGIN:VEVENT
DTSTAMP:20260421T212621
DTSTART;TZID=Europe/Berlin:20260601T180000
DTEND;TZID=Europe/Berlin:20260601T201500
UID:J685145-20260601T180000@VHSMANNHEIM
SUMMARY:A1.2 Türkisch Intensiv Anfänger*innen mit Vorkenntnissen (J685145) 
LOCATION:U 1, Raum 304, U1, 16 - 19, 68161 Mannheim
END:VEVENT
BEGIN:VEVENT
DTSTAMP:20260421T212621
DTSTART;TZID=Europe/Berlin:20260608T180000
DTEND;TZID=Europe/Berlin:20260608T201500
UID:J685145-20260608T180000@VHSMANNHEIM
SUMMARY:A1.2 Türkisch Intensiv Anfänger*innen mit Vorkenntnissen (J685145) 
LOCATION:U 1, Raum 304, U1, 16 - 19, 68161 Mannheim
END:VEVENT
END:VCALENDAR