BEGIN:VCALENDAR
PRODID:http://www.kufer.de/kuferweb / DE
VERSION:2.0
METHOD:PUBLISH
CALSCALE:GREGORIAN
X-WR-TIMEZONE:Europe/Berlin
BEGIN:VTIMEZONE
TZID:Europe/Berlin
X-LIC-LOCATION:Europe/Berlin
BEGIN:DAYLIGHT
TZOFFSETFROM:+0100
TZOFFSETTO:+0200
TZNAME:CEST
DTSTART;TZID=Europe/Berlin:19700329T020000
RRULE:FREQ=YEARLY;INTERVAL=1;BYDAY=-1SU;BYMONTH=3
END:DAYLIGHT
BEGIN:STANDARD
TZOFFSETFROM:+0200
TZOFFSETTO:+0100
TZNAME:CET
DTSTART;TZID=Europe/Berlin:19701025T030000
RRULE:FREQ=YEARLY;INTERVAL=1;BYDAY=-1SU;BYMONTH=10
END:STANDARD
END:VTIMEZONE
BEGIN:VEVENT
DTSTAMP:20260425T142929
DTSTART;TZID=Europe/Berlin:20260922T180000
DTEND;TZID=Europe/Berlin:20260922T193000
UID:K166060-20260922T180000@VHSMANNHEIM
SUMMARY:Kalligrafie: Schrift und Druck Kleingruppe (K166060) 
LOCATION:U 1, Raum 403, U1, 16 - 19, 68161 Mannheim
END:VEVENT
BEGIN:VEVENT
DTSTAMP:20260425T142929
DTSTART;TZID=Europe/Berlin:20260929T180000
DTEND;TZID=Europe/Berlin:20260929T193000
UID:K166060-20260929T180000@VHSMANNHEIM
SUMMARY:Kalligrafie: Schrift und Druck Kleingruppe (K166060) 
LOCATION:U 1, Raum 403, U1, 16 - 19, 68161 Mannheim
END:VEVENT
BEGIN:VEVENT
DTSTAMP:20260425T142929
DTSTART;TZID=Europe/Berlin:20261006T180000
DTEND;TZID=Europe/Berlin:20261006T193000
UID:K166060-20261006T180000@VHSMANNHEIM
SUMMARY:Kalligrafie: Schrift und Druck Kleingruppe (K166060) 
LOCATION:U 1, Raum 403, U1, 16 - 19, 68161 Mannheim
END:VEVENT
BEGIN:VEVENT
DTSTAMP:20260425T142929
DTSTART;TZID=Europe/Berlin:20261013T180000
DTEND;TZID=Europe/Berlin:20261013T193000
UID:K166060-20261013T180000@VHSMANNHEIM
SUMMARY:Kalligrafie: Schrift und Druck Kleingruppe (K166060) 
LOCATION:U 1, Raum 403, U1, 16 - 19, 68161 Mannheim
END:VEVENT
BEGIN:VEVENT
DTSTAMP:20260425T142929
DTSTART;TZID=Europe/Berlin:20261020T180000
DTEND;TZID=Europe/Berlin:20261020T193000
UID:K166060-20261020T180000@VHSMANNHEIM
SUMMARY:Kalligrafie: Schrift und Druck Kleingruppe (K166060) 
LOCATION:U 1, Raum 403, U1, 16 - 19, 68161 Mannheim
END:VEVENT
BEGIN:VEVENT
DTSTAMP:20260425T142929
DTSTART;TZID=Europe/Berlin:20261103T180000
DTEND;TZID=Europe/Berlin:20261103T193000
UID:K166060-20261103T180000@VHSMANNHEIM
SUMMARY:Kalligrafie: Schrift und Druck Kleingruppe (K166060) 
LOCATION:U 1, Raum 403, U1, 16 - 19, 68161 Mannheim
END:VEVENT
BEGIN:VEVENT
DTSTAMP:20260425T142929
DTSTART;TZID=Europe/Berlin:20261110T180000
DTEND;TZID=Europe/Berlin:20261110T193000
UID:K166060-20261110T180000@VHSMANNHEIM
SUMMARY:Kalligrafie: Schrift und Druck Kleingruppe (K166060) 
LOCATION:U 1, Raum 403, U1, 16 - 19, 68161 Mannheim
END:VEVENT
BEGIN:VEVENT
DTSTAMP:20260425T142929
DTSTART;TZID=Europe/Berlin:20261117T180000
DTEND;TZID=Europe/Berlin:20261117T193000
UID:K166060-20261117T180000@VHSMANNHEIM
SUMMARY:Kalligrafie: Schrift und Druck Kleingruppe (K166060) 
LOCATION:U 1, Raum 403, U1, 16 - 19, 68161 Mannheim
END:VEVENT
END:VCALENDAR