BEGIN:VCALENDAR
PRODID:http://www.kufer.de/kuferweb / DE
VERSION:2.0
METHOD:PUBLISH
CALSCALE:GREGORIAN
X-WR-TIMEZONE:Europe/Berlin
BEGIN:VTIMEZONE
TZID:Europe/Berlin
X-LIC-LOCATION:Europe/Berlin
BEGIN:DAYLIGHT
TZOFFSETFROM:+0100
TZOFFSETTO:+0200
TZNAME:CEST
DTSTART;TZID=Europe/Berlin:19700329T020000
RRULE:FREQ=YEARLY;INTERVAL=1;BYDAY=-1SU;BYMONTH=3
END:DAYLIGHT
BEGIN:STANDARD
TZOFFSETFROM:+0200
TZOFFSETTO:+0100
TZNAME:CET
DTSTART;TZID=Europe/Berlin:19701025T030000
RRULE:FREQ=YEARLY;INTERVAL=1;BYDAY=-1SU;BYMONTH=10
END:STANDARD
END:VTIMEZONE
BEGIN:VEVENT
DTSTAMP:20260425T141008
DTSTART;TZID=Europe/Berlin:20270226T170000
DTEND;TZID=Europe/Berlin:20270226T200000
UID:K166064-20270226T170000@VHSMANNHEIM
SUMMARY:Kalligrafische Werkzeuge: Automatic-Pen und Ziehfeder Workshop (K166064) 
LOCATION:U 1, Raum 403, U1, 16 - 19, 68161 Mannheim
END:VEVENT
BEGIN:VEVENT
DTSTAMP:20260425T141008
DTSTART;TZID=Europe/Berlin:20270227T100000
DTEND;TZID=Europe/Berlin:20270227T160000
UID:K166064-20270227T100000@VHSMANNHEIM
SUMMARY:Kalligrafische Werkzeuge: Automatic-Pen und Ziehfeder Workshop (K166064) 
LOCATION:U 1, Raum 403, U1, 16 - 19, 68161 Mannheim
END:VEVENT
END:VCALENDAR