BEGIN:VCALENDAR
PRODID:http://www.kufer.de/kuferweb / DE
VERSION:2.0
METHOD:PUBLISH
CALSCALE:GREGORIAN
X-WR-TIMEZONE:Europe/Berlin
BEGIN:VTIMEZONE
TZID:Europe/Berlin
X-LIC-LOCATION:Europe/Berlin
BEGIN:DAYLIGHT
TZOFFSETFROM:+0100
TZOFFSETTO:+0200
TZNAME:CEST
DTSTART;TZID=Europe/Berlin:19700329T020000
RRULE:FREQ=YEARLY;INTERVAL=1;BYDAY=-1SU;BYMONTH=3
END:DAYLIGHT
BEGIN:STANDARD
TZOFFSETFROM:+0200
TZOFFSETTO:+0100
TZNAME:CET
DTSTART;TZID=Europe/Berlin:19701025T030000
RRULE:FREQ=YEARLY;INTERVAL=1;BYDAY=-1SU;BYMONTH=10
END:STANDARD
END:VTIMEZONE
BEGIN:VEVENT
DTSTAMP:20260425T142731
DTSTART;TZID=Europe/Berlin:20260921T180000
DTEND;TZID=Europe/Berlin:20260921T202000
UID:K166075-20260921T180000@VHSMANNHEIM
SUMMARY:Aquarell - Mischtechniken für Anfänger:innen und Fortgeschrittene Kleingruppe (K166075) 
LOCATION:U 1, Raum 403, U1, 16 - 19, 68161 Mannheim
END:VEVENT
BEGIN:VEVENT
DTSTAMP:20260425T142731
DTSTART;TZID=Europe/Berlin:20260928T180000
DTEND;TZID=Europe/Berlin:20260928T202000
UID:K166075-20260928T180000@VHSMANNHEIM
SUMMARY:Aquarell - Mischtechniken für Anfänger:innen und Fortgeschrittene Kleingruppe (K166075) 
LOCATION:U 1, Raum 403, U1, 16 - 19, 68161 Mannheim
END:VEVENT
BEGIN:VEVENT
DTSTAMP:20260425T142731
DTSTART;TZID=Europe/Berlin:20261005T180000
DTEND;TZID=Europe/Berlin:20261005T202000
UID:K166075-20261005T180000@VHSMANNHEIM
SUMMARY:Aquarell - Mischtechniken für Anfänger:innen und Fortgeschrittene Kleingruppe (K166075) 
LOCATION:U 1, Raum 403, U1, 16 - 19, 68161 Mannheim
END:VEVENT
BEGIN:VEVENT
DTSTAMP:20260425T142731
DTSTART;TZID=Europe/Berlin:20261019T180000
DTEND;TZID=Europe/Berlin:20261019T202000
UID:K166075-20261019T180000@VHSMANNHEIM
SUMMARY:Aquarell - Mischtechniken für Anfänger:innen und Fortgeschrittene Kleingruppe (K166075) 
LOCATION:U 1, Raum 403, U1, 16 - 19, 68161 Mannheim
END:VEVENT
BEGIN:VEVENT
DTSTAMP:20260425T142731
DTSTART;TZID=Europe/Berlin:20261102T180000
DTEND;TZID=Europe/Berlin:20261102T202000
UID:K166075-20261102T180000@VHSMANNHEIM
SUMMARY:Aquarell - Mischtechniken für Anfänger:innen und Fortgeschrittene Kleingruppe (K166075) 
LOCATION:U 1, Raum 403, U1, 16 - 19, 68161 Mannheim
END:VEVENT
BEGIN:VEVENT
DTSTAMP:20260425T142731
DTSTART;TZID=Europe/Berlin:20261109T180000
DTEND;TZID=Europe/Berlin:20261109T202000
UID:K166075-20261109T180000@VHSMANNHEIM
SUMMARY:Aquarell - Mischtechniken für Anfänger:innen und Fortgeschrittene Kleingruppe (K166075) 
LOCATION:U 1, Raum 403, U1, 16 - 19, 68161 Mannheim
END:VEVENT
BEGIN:VEVENT
DTSTAMP:20260425T142731
DTSTART;TZID=Europe/Berlin:20261116T180000
DTEND;TZID=Europe/Berlin:20261116T202000
UID:K166075-20261116T180000@VHSMANNHEIM
SUMMARY:Aquarell - Mischtechniken für Anfänger:innen und Fortgeschrittene Kleingruppe (K166075) 
LOCATION:U 1, Raum 403, U1, 16 - 19, 68161 Mannheim
END:VEVENT
END:VCALENDAR