BEGIN:VCALENDAR
PRODID:http://www.kufer.de/kuferweb / DE
VERSION:2.0
METHOD:PUBLISH
CALSCALE:GREGORIAN
X-WR-TIMEZONE:Europe/Berlin
BEGIN:VTIMEZONE
TZID:Europe/Berlin
X-LIC-LOCATION:Europe/Berlin
BEGIN:DAYLIGHT
TZOFFSETFROM:+0100
TZOFFSETTO:+0200
TZNAME:CEST
DTSTART;TZID=Europe/Berlin:19700329T020000
RRULE:FREQ=YEARLY;INTERVAL=1;BYDAY=-1SU;BYMONTH=3
END:DAYLIGHT
BEGIN:STANDARD
TZOFFSETFROM:+0200
TZOFFSETTO:+0100
TZNAME:CET
DTSTART;TZID=Europe/Berlin:19701025T030000
RRULE:FREQ=YEARLY;INTERVAL=1;BYDAY=-1SU;BYMONTH=10
END:STANDARD
END:VTIMEZONE
BEGIN:VEVENT
DTSTAMP:20260425T161909
DTSTART;TZID=Europe/Berlin:20261007T120000
DTEND;TZID=Europe/Berlin:20261007T141500
UID:K194129-20261007T120000@VHSMANNHEIM
SUMMARY:Rechnen für Alltag und Beruf: Grundrechenarten (K194129) 
LOCATION:U 1, Raum 501, U1, 16 - 19, 68161 Mannheim
END:VEVENT
BEGIN:VEVENT
DTSTAMP:20260425T161909
DTSTART;TZID=Europe/Berlin:20261014T120000
DTEND;TZID=Europe/Berlin:20261014T141500
UID:K194129-20261014T120000@VHSMANNHEIM
SUMMARY:Rechnen für Alltag und Beruf: Grundrechenarten (K194129) 
LOCATION:U 1, Raum 502, U1, 16 - 19, 68161 Mannheim
END:VEVENT
BEGIN:VEVENT
DTSTAMP:20260425T161909
DTSTART;TZID=Europe/Berlin:20261021T120000
DTEND;TZID=Europe/Berlin:20261021T141500
UID:K194129-20261021T120000@VHSMANNHEIM
SUMMARY:Rechnen für Alltag und Beruf: Grundrechenarten (K194129) 
LOCATION:U 1, Raum 501, U1, 16 - 19, 68161 Mannheim
END:VEVENT
BEGIN:VEVENT
DTSTAMP:20260425T161909
DTSTART;TZID=Europe/Berlin:20261104T120000
DTEND;TZID=Europe/Berlin:20261104T141500
UID:K194129-20261104T120000@VHSMANNHEIM
SUMMARY:Rechnen für Alltag und Beruf: Grundrechenarten (K194129) 
LOCATION:U 1, Raum 501, U1, 16 - 19, 68161 Mannheim
END:VEVENT
BEGIN:VEVENT
DTSTAMP:20260425T161909
DTSTART;TZID=Europe/Berlin:20261111T120000
DTEND;TZID=Europe/Berlin:20261111T141500
UID:K194129-20261111T120000@VHSMANNHEIM
SUMMARY:Rechnen für Alltag und Beruf: Grundrechenarten (K194129) 
LOCATION:U 1, Raum 501, U1, 16 - 19, 68161 Mannheim
END:VEVENT
BEGIN:VEVENT
DTSTAMP:20260425T161909
DTSTART;TZID=Europe/Berlin:20261118T120000
DTEND;TZID=Europe/Berlin:20261118T141500
UID:K194129-20261118T120000@VHSMANNHEIM
SUMMARY:Rechnen für Alltag und Beruf: Grundrechenarten (K194129) 
LOCATION:U 1, Raum 501, U1, 16 - 19, 68161 Mannheim
END:VEVENT
BEGIN:VEVENT
DTSTAMP:20260425T161909
DTSTART;TZID=Europe/Berlin:20261125T120000
DTEND;TZID=Europe/Berlin:20261125T141500
UID:K194129-20261125T120000@VHSMANNHEIM
SUMMARY:Rechnen für Alltag und Beruf: Grundrechenarten (K194129) 
LOCATION:U 1, Raum 501, U1, 16 - 19, 68161 Mannheim
END:VEVENT
BEGIN:VEVENT
DTSTAMP:20260425T161909
DTSTART;TZID=Europe/Berlin:20261202T120000
DTEND;TZID=Europe/Berlin:20261202T141500
UID:K194129-20261202T120000@VHSMANNHEIM
SUMMARY:Rechnen für Alltag und Beruf: Grundrechenarten (K194129) 
LOCATION:U 1, Raum 501, U1, 16 - 19, 68161 Mannheim
END:VEVENT
END:VCALENDAR