BEGIN:VCALENDAR
PRODID:http://www.kufer.de/kuferweb / DE
VERSION:2.0
METHOD:PUBLISH
CALSCALE:GREGORIAN
X-WR-TIMEZONE:Europe/Berlin
BEGIN:VTIMEZONE
TZID:Europe/Berlin
X-LIC-LOCATION:Europe/Berlin
BEGIN:DAYLIGHT
TZOFFSETFROM:+0100
TZOFFSETTO:+0200
TZNAME:CEST
DTSTART;TZID=Europe/Berlin:19700329T020000
RRULE:FREQ=YEARLY;INTERVAL=1;BYDAY=-1SU;BYMONTH=3
END:DAYLIGHT
BEGIN:STANDARD
TZOFFSETFROM:+0200
TZOFFSETTO:+0100
TZNAME:CET
DTSTART;TZID=Europe/Berlin:19701025T030000
RRULE:FREQ=YEARLY;INTERVAL=1;BYDAY=-1SU;BYMONTH=10
END:STANDARD
END:VTIMEZONE
BEGIN:VEVENT
DTSTAMP:20260420T122344
DTSTART;TZID=Europe/Berlin:20260904T180000
DTEND;TZID=Europe/Berlin:20260904T193000
UID:K674102-20260904T180000@VHSMANNHEIM
SUMMARY:A1.2 Persisch - Anfänger*innen mit Vorkenntnissen Hybrid-Kurs (K674102) 
LOCATION:U 1, Raum 404, U1, 16 - 19, 68161 Mannheim
END:VEVENT
BEGIN:VEVENT
DTSTAMP:20260420T122344
DTSTART;TZID=Europe/Berlin:20260911T180000
DTEND;TZID=Europe/Berlin:20260911T193000
UID:K674102-20260911T180000@VHSMANNHEIM
SUMMARY:A1.2 Persisch - Anfänger*innen mit Vorkenntnissen Hybrid-Kurs (K674102) 
LOCATION:U 1, Raum 404, U1, 16 - 19, 68161 Mannheim
END:VEVENT
BEGIN:VEVENT
DTSTAMP:20260420T122344
DTSTART;TZID=Europe/Berlin:20260918T180000
DTEND;TZID=Europe/Berlin:20260918T193000
UID:K674102-20260918T180000@VHSMANNHEIM
SUMMARY:A1.2 Persisch - Anfänger*innen mit Vorkenntnissen Hybrid-Kurs (K674102) 
LOCATION:U 1, Raum 404, U1, 16 - 19, 68161 Mannheim
END:VEVENT
BEGIN:VEVENT
DTSTAMP:20260420T122344
DTSTART;TZID=Europe/Berlin:20260925T180000
DTEND;TZID=Europe/Berlin:20260925T193000
UID:K674102-20260925T180000@VHSMANNHEIM
SUMMARY:A1.2 Persisch - Anfänger*innen mit Vorkenntnissen Hybrid-Kurs (K674102) 
LOCATION:U 1, Raum 404, U1, 16 - 19, 68161 Mannheim
END:VEVENT
BEGIN:VEVENT
DTSTAMP:20260420T122344
DTSTART;TZID=Europe/Berlin:20261002T180000
DTEND;TZID=Europe/Berlin:20261002T193000
UID:K674102-20261002T180000@VHSMANNHEIM
SUMMARY:A1.2 Persisch - Anfänger*innen mit Vorkenntnissen Hybrid-Kurs (K674102) 
LOCATION:U 1, Raum 404, U1, 16 - 19, 68161 Mannheim
END:VEVENT
BEGIN:VEVENT
DTSTAMP:20260420T122344
DTSTART;TZID=Europe/Berlin:20261009T180000
DTEND;TZID=Europe/Berlin:20261009T193000
UID:K674102-20261009T180000@VHSMANNHEIM
SUMMARY:A1.2 Persisch - Anfänger*innen mit Vorkenntnissen Hybrid-Kurs (K674102) 
LOCATION:U 1, Raum 404, U1, 16 - 19, 68161 Mannheim
END:VEVENT
BEGIN:VEVENT
DTSTAMP:20260420T122344
DTSTART;TZID=Europe/Berlin:20261016T180000
DTEND;TZID=Europe/Berlin:20261016T193000
UID:K674102-20261016T180000@VHSMANNHEIM
SUMMARY:A1.2 Persisch - Anfänger*innen mit Vorkenntnissen Hybrid-Kurs (K674102) 
LOCATION:U 1, Raum 404, U1, 16 - 19, 68161 Mannheim
END:VEVENT
BEGIN:VEVENT
DTSTAMP:20260420T122344
DTSTART;TZID=Europe/Berlin:20261023T180000
DTEND;TZID=Europe/Berlin:20261023T193000
UID:K674102-20261023T180000@VHSMANNHEIM
SUMMARY:A1.2 Persisch - Anfänger*innen mit Vorkenntnissen Hybrid-Kurs (K674102) 
LOCATION:U 1, Raum 404, U1, 16 - 19, 68161 Mannheim
END:VEVENT
BEGIN:VEVENT
DTSTAMP:20260420T122344
DTSTART;TZID=Europe/Berlin:20261030T180000
DTEND;TZID=Europe/Berlin:20261030T193000
UID:K674102-20261030T180000@VHSMANNHEIM
SUMMARY:A1.2 Persisch - Anfänger*innen mit Vorkenntnissen Hybrid-Kurs (K674102) 
LOCATION:U 1, Raum 404, U1, 16 - 19, 68161 Mannheim
END:VEVENT
BEGIN:VEVENT
DTSTAMP:20260420T122344
DTSTART;TZID=Europe/Berlin:20261106T180000
DTEND;TZID=Europe/Berlin:20261106T193000
UID:K674102-20261106T180000@VHSMANNHEIM
SUMMARY:A1.2 Persisch - Anfänger*innen mit Vorkenntnissen Hybrid-Kurs (K674102) 
LOCATION:U 1, Raum 404, U1, 16 - 19, 68161 Mannheim
END:VEVENT
BEGIN:VEVENT
DTSTAMP:20260420T122344
DTSTART;TZID=Europe/Berlin:20261113T180000
DTEND;TZID=Europe/Berlin:20261113T193000
UID:K674102-20261113T180000@VHSMANNHEIM
SUMMARY:A1.2 Persisch - Anfänger*innen mit Vorkenntnissen Hybrid-Kurs (K674102) 
LOCATION:U 1, Raum 404, U1, 16 - 19, 68161 Mannheim
END:VEVENT
BEGIN:VEVENT
DTSTAMP:20260420T122344
DTSTART;TZID=Europe/Berlin:20261120T180000
DTEND;TZID=Europe/Berlin:20261120T193000
UID:K674102-20261120T180000@VHSMANNHEIM
SUMMARY:A1.2 Persisch - Anfänger*innen mit Vorkenntnissen Hybrid-Kurs (K674102) 
LOCATION:U 1, Raum 404, U1, 16 - 19, 68161 Mannheim
END:VEVENT
END:VCALENDAR